BEGIN:VCALENDAR
VERSION:2.0
PRODID:-//Coventry United Football Club - ECPv6.15.20//NONSGML v1.0//EN
CALSCALE:GREGORIAN
METHOD:PUBLISH
X-WR-CALNAME:Coventry United Football Club
X-ORIGINAL-URL:https://covunited.com
X-WR-CALDESC:Events for Coventry United Football Club
REFRESH-INTERVAL;VALUE=DURATION:PT1H
X-Robots-Tag:noindex
X-PUBLISHED-TTL:PT1H
BEGIN:VTIMEZONE
TZID:UTC
BEGIN:STANDARD
TZOFFSETFROM:+0000
TZOFFSETTO:+0000
TZNAME:UTC
DTSTART:20240101T000000
END:STANDARD
END:VTIMEZONE
BEGIN:VEVENT
DTSTART;VALUE=DATE:20250614
DTEND;VALUE=DATE:20260601
DTSTAMP:20260423T095148
CREATED:20250614T172539Z
LAST-MODIFIED:20250614T173220Z
UID:2699-1749859200-1780271999@covunited.com
SUMMARY:Children Ticket
DESCRIPTION:
URL:https://covunited.com/event/children-ticket/
LOCATION:Coventry West Midlands\, Coventry\, CV1 3GE\, United Kingdom
CATEGORIES:Ticket
ATTACH;FMTTYPE=image/png:https://covunited.com/wp-content/uploads/2025/06/Untitled-design-3.png
END:VEVENT
BEGIN:VEVENT
DTSTART;VALUE=DATE:20250614
DTEND;VALUE=DATE:20260701
DTSTAMP:20260423T095148
CREATED:20250614T174610Z
LAST-MODIFIED:20250614T174847Z
UID:2708-1749859200-1782863999@covunited.com
SUMMARY:Adults Ticket
DESCRIPTION:
URL:https://covunited.com/event/adults-ticket/
LOCATION:Coventry West Midlands\, Coventry\, CV1 3GE\, United Kingdom
CATEGORIES:Ticket
ATTACH;FMTTYPE=image/png:https://covunited.com/wp-content/uploads/2025/06/Untitled-design-3.png
END:VEVENT
BEGIN:VEVENT
DTSTART;TZID=UTC:20250614T080000
DTEND;TZID=UTC:20260630T170000
DTSTAMP:20260423T095148
CREATED:20250614T174037Z
LAST-MODIFIED:20250719T194314Z
UID:2705-1749888000-1782838800@covunited.com
SUMMARY:Concessions Ticket
DESCRIPTION:
URL:https://covunited.com/event/concessions/
LOCATION:Coventry West Midlands\, Coventry\, CV1 3GE\, United Kingdom
CATEGORIES:Ticket
ATTACH;FMTTYPE=image/png:https://covunited.com/wp-content/uploads/2025/06/Untitled-design-3.png
END:VEVENT
END:VCALENDAR